BEGIN:VCALENDAR
VERSION:2.0
PRODID:-//Falkor//Falkor Events//EN
CALSCALE:GREGORIAN
METHOD:PUBLISH
BEGIN:VEVENT
DTSTART:20260726T023000Z
DTEND:20260726T043000Z
SUMMARY:LAFC vs Sporting Kansas City at BMO Stadium
DESCRIPTION:Sporting Kansas City visit BMO Stadium on July 25 — a Friday evening Western Conference match that LAFC enters as the home-field favorite in a conference where the gap between clubs has never been narrower. Sporting KC are among MLS's most respected clubs: technically demanding\, well-structured\, and built to compete through the full 34-game regular season in ways that wear down less organized opponents. LAFC answers with BMO Stadium's atmosphere\, which on Friday evenings in July becomes something genuinely different from a typical sports venue — the 3252 in full voice before kickoff\, the crowd in the concourses carrying the energy of a city that has adopted this club as fully as any soccer-specific team in North America. By late July\, conference positions are not abstract. LAFC at home\, against a quality opponent\, on a summer evening in Los Angeles: this is what MLS was built toward.
LOCATION:3939 S Figueroa St\, Los Angeles\, CA 90037
URL:https://www.falkorevents.com/eventcal/event/4845/details/
UID:event-4845@falkorevents.com
END:VEVENT
END:VCALENDAR