BEGIN:VCALENDAR
VERSION:2.0
PRODID:-//Falkor//Falkor Events//EN
CALSCALE:GREGORIAN
METHOD:PUBLISH
BEGIN:VEVENT
DTSTART:20260816T023000Z
DTEND:20260816T043000Z
SUMMARY:LAFC vs San Diego FC at BMO Stadium
DESCRIPTION:BMO Stadium hosts the SoCal Derby on August 15 — LAFC against San Diego FC in the Southern California rivalry that has given the league one of its most fascinating early-era contests. LAFC's rooftop on the west stand and the 3252 in the north end create an environment that San Diego FC's away support cannot replicate visiting\, no matter how many miles they travel up the 5. LAFC are the established power in this pairing — three MLS seasons older\, more experienced in the Western Conference elimination rounds\, and playing in a stadium that is already one of the best in North America. San Diego FC are the challenger: newer\, unburdened by expectation\, and building toward the moment they can claim the rivalry. August 15 at BMO is that contest in its most direct form — each club with something to prove to the other and to the broader conference.
LOCATION:3939 S Figueroa St\, Los Angeles\, CA 90037
URL:https://www.falkorevents.com/eventcal/event/4846/details/
UID:event-4846@falkorevents.com
END:VEVENT
END:VCALENDAR