BEGIN:VCALENDAR
VERSION:2.0
PRODID:-//Falkor//Falkor Events//EN
CALSCALE:GREGORIAN
METHOD:PUBLISH
BEGIN:VEVENT
DTSTART:20260823T023000Z
DTEND:20260823T043000Z
SUMMARY:LAFC vs Portland Timbers at BMO Stadium
DESCRIPTION:LAFC host the Portland Timbers at BMO Stadium on August 22 in a Western Conference match that carries the weight of two of MLS's most distinct supporter cultures. Portland's Timbers Army is the most identifiable contingent in the league — they travel everywhere\, they generate noise in every away venue\, and arriving at BMO Stadium with a full north end occupied by the 3252 across from a visiting Timbers section is one of the more charged live atmospheres in American sports. LAFC vs Timbers has become one of the league's signature fixtures precisely because of what happens between the supporter groups: it is genuine\, it is sustained\, and the quality of football that typically emerges matches the atmosphere that surrounds it. August 22 at BMO is a summer Saturday that earns its place on the sports calendar. Plan the day around it.
LOCATION:3939 S Figueroa St\, Los Angeles\, CA 90037
URL:https://www.falkorevents.com/eventcal/event/4847/details/
UID:event-4847@falkorevents.com
END:VEVENT
END:VCALENDAR