BEGIN:VCALENDAR
VERSION:2.0
PRODID:-//Falkor//Falkor Events//EN
CALSCALE:GREGORIAN
METHOD:PUBLISH
BEGIN:VEVENT
DTSTART:20261011T023000Z
DTEND:20261011T043000Z
SUMMARY:LAFC vs Vancouver Whitecaps at BMO Stadium
DESCRIPTION:LAFC host the Vancouver Whitecaps at BMO Stadium on October 10 — a late-season Western Conference match where the playoff bracket is nearly resolved and the remaining regular season positions carry real bracket consequences. Vancouver has become a consistently competitive Western Conference side with genuine quality through the spine and a technical identity that tests organized home sides across 90 minutes. BMO Stadium in October carries a particular playoff-eve quality: the crowd more focused\, the 3252 more vocal for this phase of the season than they are in spring or summer\, the collective understanding that each remaining home match is finite and matters. LAFC's path through the postseason runs through their home record at BMO — the stadium's capacity crowd and the 3252's sustained pressure have been the difference in close matches all season. October 10 is the penultimate home match. It counts.
LOCATION:3939 S Figueroa St\, Los Angeles\, CA 90037
URL:https://www.falkorevents.com/eventcal/event/4848/details/
UID:event-4848@falkorevents.com
END:VEVENT
END:VCALENDAR