BEGIN:VCALENDAR
VERSION:2.0
PRODID:-//Falkor//Falkor Events//EN
CALSCALE:GREGORIAN
METHOD:PUBLISH
BEGIN:VEVENT
DTSTART:20261015T023000Z
DTEND:20261015T043000Z
SUMMARY:LAFC vs Austin FC at BMO Stadium
DESCRIPTION:LAFC host Austin FC at BMO Stadium on October 14 as the regular season enters its final two weeks. Austin FC have grown into one of the league's more complete sides — a technically demanding team with a supporter culture (the Verde) that makes considerable noise in away venues. The October LAFC home atmosphere at BMO is a different thing from the summer version: the crowd is sharper\, the urgency more visible\, the 3252 aware that this is one of their last opportunities to push the club through the bracket on their terms. For LAFC\, every remaining home match in October is a statement about what the postseason will look like. Austin is the kind of opponent that makes the statement meaningful — a quality side\, a difficult match\, and a result that will be understood in the context of where both clubs go from here.
LOCATION:3939 S Figueroa St\, Los Angeles\, CA 90037
URL:https://www.falkorevents.com/eventcal/event/4849/details/
UID:event-4849@falkorevents.com
END:VEVENT
END:VCALENDAR