BEGIN:VCALENDAR
VERSION:2.0
PRODID:-//Falkor//Falkor Events//EN
CALSCALE:GREGORIAN
METHOD:PUBLISH
BEGIN:VEVENT
DTSTART:20261026T023000Z
DTEND:20261026T043000Z
SUMMARY:El Trafico: LAFC vs LA Galaxy at BMO Stadium
DESCRIPTION:October 25 at BMO Stadium is El Trafico — LAFC against the LA Galaxy in the Los Angeles derby that has become the signature fixture of MLS's modern era. No rivalry in American professional soccer is more examined\, more contested\, or more genuinely hostile than this one. LAFC play in the north of the city in a stadium that was built explicitly to intimidate visiting clubs. The Galaxy bring thirty years of history\, five MLS Cups\, and a supporter base that refuses to concede Los Angeles to anyone. El Trafico at BMO has produced some of the most technically accomplished MLS football of the past six years — two genuine title contenders\, playing at the highest level\, in front of a crowd that provides something the players describe as incomparable. The 3252 versus a packed Galaxy away section. The scoreboard more consequential than usual because both clubs are still playing for playoff position. October in Los Angeles is when the real season begins. El Trafico on October 25 is where it announces itself.
LOCATION:3939 S Figueroa St\, Los Angeles\, CA 90037
URL:https://www.falkorevents.com/eventcal/event/4850/details/
UID:event-4850@falkorevents.com
END:VEVENT
END:VCALENDAR