BEGIN:VCALENDAR
VERSION:2.0
PRODID:-//Falkor//Falkor Events//EN
CALSCALE:GREGORIAN
METHOD:PUBLISH
BEGIN:VEVENT
DTSTART:20261101T023000Z
DTEND:20261101T043000Z
SUMMARY:LAFC vs Minnesota United at BMO Stadium
DESCRIPTION:BMO Stadium closes its 2026 regular season on October 31 when LAFC host Minnesota United — the final home match of the year before the postseason begins. Minnesota have built one of the league's more interesting identities: organized at the back\, creative through the midfield\, and capable of results against any team in the conference on any given night. For LAFC\, this is the last chance to finish the regular season with the home-record statement that has defined their years at BMO. The 3252 treat closing day as a celebration of what the home season has produced — the match matters for seeding\, but the atmosphere treats it as both finale and prologue. Whatever has come before October 31 at BMO\, this is the moment the regular season is handed over to memory and the playoffs take over. LAFC enters them having played the last home match of the year in front of the supporter group that helped build the club into what it is.
LOCATION:3939 S Figueroa St\, Los Angeles\, CA 90037
URL:https://www.falkorevents.com/eventcal/event/4851/details/
UID:event-4851@falkorevents.com
END:VEVENT
END:VCALENDAR