BEGIN:VCALENDAR
VERSION:2.0
PRODID:-//Falkor//Falkor Events//EN
CALSCALE:GREGORIAN
METHOD:PUBLISH
BEGIN:VEVENT
DTSTART:20260427T201000Z
DTEND:20260427T231000Z
SUMMARY:San Diego Padres vs Chicago Cubs at Petco Park
DESCRIPTION:The Chicago Cubs come to Petco Park starting April 27 in one of the most historically weighted pairings in the National League. The Cubs travel with one of baseball's largest and most vocal fan bases — there will be Cub blue in the left-field bleachers and along the first-base line before the first pitch is thrown\, a reliable feature of any Chicago visit to any National League park. But Petco Park in April is one of the most beautiful baseball environments in the major leagues: the views from the upper deck toward the bay\, the Gaslamp Quarter skyline visible over the left-field wall\, and the Padres faithful showing a visiting crowd exactly what San Diego baseball looks like when the team is playing with purpose. April against the Cubs at Petco is not a casual visit — it is a reminder that the National League West intends to make its presence felt against a storied franchise.
LOCATION:100 Park Blvd\, San Diego\, CA 92101
URL:https://www.falkorevents.com/eventcal/event/4852/details/
UID:event-4852@falkorevents.com
END:VEVENT
END:VCALENDAR