BEGIN:VCALENDAR
VERSION:2.0
PRODID:-//Falkor//Falkor Events//EN
CALSCALE:GREGORIAN
METHOD:PUBLISH
BEGIN:VEVENT
DTSTART:20260519T021000Z
DTEND:20260519T051000Z
SUMMARY:San Diego Padres vs LA Dodgers at Petco Park — May Series
DESCRIPTION:The Dodgers come to Petco Park on May 18 and the city of San Diego responds accordingly. There is no series on the Padres home calendar more anticipated\, more contested\, or more capable of generating the kind of atmosphere that makes you grateful you showed up than the Padres vs Dodgers — the rivalry that defines National League West baseball and has been doing so for three decades. The Dodgers travel with one of the largest away contingents in baseball\, and Petco Park absorbs their presence with the particular energy of a home crowd that has spent the whole year preparing to outsell the visitors on noise. This is the rivalry with the most history\, the most intensity\, and the most consequence — and in May\, with both clubs jockeying for the top of the NL West\, every inning matters at a level that regular-season baseball often cannot replicate.
LOCATION:100 Park Blvd\, San Diego\, CA 92101
URL:https://www.falkorevents.com/eventcal/event/4855/details/
UID:event-4855@falkorevents.com
END:VEVENT
END:VCALENDAR