BEGIN:VCALENDAR
VERSION:2.0
PRODID:-//Falkor//Falkor Events//EN
CALSCALE:GREGORIAN
METHOD:PUBLISH
BEGIN:VEVENT
DTSTART:20260525T201000Z
DTEND:20260525T231000Z
SUMMARY:San Diego Padres vs Philadelphia Phillies at Petco Park
DESCRIPTION:The Philadelphia Phillies visit Petco Park starting May 25 — a clash between two franchises with genuine postseason ambitions and passionate fan bases that travel. The Phillies in recent years have become one of the National League's elite clubs\, and their presence at any stadium adds a level of competitive intensity that elevates the home team's performance. Petco Park on a Memorial Day weekend draws holiday-weekend energy: families\, season-ticket holders\, and the casual fans who save one Padres game per year and pick this one because it is on a Monday in May and the weather is perfect. Against the Phillies\, the casual game becomes the serious one. Both clubs play with purpose this time of year. Petco Park in late May\, with the bay visible and the stands full on a long weekend\, is exactly what baseball was designed to be.
LOCATION:100 Park Blvd\, San Diego\, CA 92101
URL:https://www.falkorevents.com/eventcal/event/4856/details/
UID:event-4856@falkorevents.com
END:VEVENT
END:VCALENDAR