BEGIN:VCALENDAR
VERSION:2.0
PRODID:-//Falkor//Falkor Events//EN
CALSCALE:GREGORIAN
METHOD:PUBLISH
BEGIN:VEVENT
DTSTART:20260609T021000Z
DTEND:20260609T051000Z
SUMMARY:San Diego Padres vs Cincinnati Reds at Petco Park
DESCRIPTION:The Cincinnati Reds visit Petco Park on June 8 for a series that provides one of the most interesting early-summer competitive tests on the Padres home calendar. The Reds are a club in an active rebuild with genuine talent emerging through their development pipeline — the kind of opponent that punishes any home team that takes them lightly. Petco Park in mid-June carries a specific quality: the school year just ending\, the summer crowds beginning to arrive\, the downtown Gaslamp Quarter filling up around the park before first pitch. A June Monday night at Petco against the Reds is the kind of baseball evening that casual fans miss because it looks routine on the schedule and serious fans know is anything but. The best Padres performances of any season tend to happen in these mid-June stretches\, when the rotation is aligned and the lineup is at its most settled.
LOCATION:100 Park Blvd\, San Diego\, CA 92101
URL:https://www.falkorevents.com/eventcal/event/4858/details/
UID:event-4858@falkorevents.com
END:VEVENT
END:VCALENDAR