BEGIN:VCALENDAR
VERSION:2.0
PRODID:-//Falkor//Falkor Events//EN
CALSCALE:GREGORIAN
METHOD:PUBLISH
BEGIN:VEVENT
DTSTART:20260627T021000Z
DTEND:20260627T051000Z
SUMMARY:San Diego Padres vs LA Dodgers at Petco Park — June Series
DESCRIPTION:The Dodgers return to Petco Park on June 26 for the second rivalry series of the season\, and by the last Friday in June the NL West race has taken shape in ways that make this visit more consequential than the May encounter. A back-to-back Padres-Dodgers series in a single season at Petco creates the particular urgency of a rivalry where the second meeting carries the weight of everything that happened in the first. The right-field line fills with Dodger blue regardless of the day of the week — a testament to the size and presence of Los Angeles' diaspora in San Diego. The home crowd responds. Petco Park during a Dodgers series is the loudest it gets during the regular season. June 26 is a Friday night in the Gaslamp Quarter with the Padres and Dodgers separated by a game or two in the standings and everything left to play for.
LOCATION:100 Park Blvd\, San Diego\, CA 92101
URL:https://www.falkorevents.com/eventcal/event/4860/details/
UID:event-4860@falkorevents.com
END:VEVENT
END:VCALENDAR