BEGIN:VCALENDAR
VERSION:2.0
PRODID:-//Falkor//Falkor Events//EN
CALSCALE:GREGORIAN
METHOD:PUBLISH
BEGIN:VEVENT
DTSTART:20260707T021000Z
DTEND:20260707T051000Z
SUMMARY:San Diego Padres vs Arizona Diamondbacks at Petco Park
DESCRIPTION:The Arizona Diamondbacks visit Petco Park on July 6 in the NL West division series that carries the most direct consequence on the standings. Padres vs Diamondbacks is a rivalry conducted with the mutual respect of two clubs that know they are competing for the same postseason real estate — the West is their division\, these games decide who controls it\, and the home-and-away math between them across a full season is the most direct measurement of what each club's year has been worth. Petco Park over a July 4th holiday weekend stretch brings the summer season to its full volume: the crowds include everyone — families\, season-ticket holders\, visitors from Arizona with their own loyalties — and the park's atmosphere absorbs all of it and converts it into the specific Petco quality of a weekend that feels like summer baseball at its best.
LOCATION:100 Park Blvd\, San Diego\, CA 92101
URL:https://www.falkorevents.com/eventcal/event/4861/details/
UID:event-4861@falkorevents.com
END:VEVENT
END:VCALENDAR