BEGIN:VCALENDAR
VERSION:2.0
PRODID:-//Falkor//Falkor Events//EN
CALSCALE:GREGORIAN
METHOD:PUBLISH
BEGIN:VEVENT
DTSTART:20260711T021000Z
DTEND:20260711T051000Z
SUMMARY:San Diego Padres vs Toronto Blue Jays at Petco Park
DESCRIPTION:The Toronto Blue Jays visit Petco Park on July 10 in an interleague series that provides a late-week summer showcase. Toronto is consistently one of the American League's most interesting clubs — a Canadian franchise with a history of developing Latin American talent and building rosters that produce entertaining\, high-scoring baseball. An interleague Friday night at Petco against the Blue Jays is the kind of game that delivers the unexpected: styles of play that don't meet during the regular season suddenly in contact with each other for three games in the best park in the National League. Petco Park in mid-July is the stadium at the height of summer: warm\, clear\, the Gaslamp Quarter in full Friday-night activation before first pitch\, the park full of people who have worked the week and arrived ready for three hours of exactly this. See you at the park.
LOCATION:100 Park Blvd\, San Diego\, CA 92101
URL:https://www.falkorevents.com/eventcal/event/4862/details/
UID:event-4862@falkorevents.com
END:VEVENT
END:VCALENDAR