BEGIN:VCALENDAR
VERSION:2.0
PRODID:-//Falkor//Falkor Events//EN
CALSCALE:GREGORIAN
METHOD:PUBLISH
BEGIN:VEVENT
DTSTART:20260725T021000Z
DTEND:20260725T051000Z
SUMMARY:San Diego Padres vs Miami Marlins at Petco Park — July
DESCRIPTION:The Miami Marlins visit Petco Park on July 24 in a series that provides the backdrop for summer baseball at its most atmospheric. The Marlins are a franchise in ongoing evolution — young talent\, a new financial commitment\, and a club that has used every mechanism available to a small-market team to remain competitive. At Petco Park in late July\, they visit a stadium and a fan base that is fully engaged in the pennant race. The NL West in late July separates real contenders from teams that were competing earlier in the year\, and the Padres faithful show up for a July Friday knowing the next 50 games will define the season. Petco's upper deck on a July evening — the bay visible\, the Coronado Bridge catching the last light\, the ballpark at full attendance — is one of the most beautiful environments in American sports. The Marlins are the opponent. The setting is the reason.
LOCATION:100 Park Blvd\, San Diego\, CA 92101
URL:https://www.falkorevents.com/eventcal/event/4863/details/
UID:event-4863@falkorevents.com
END:VEVENT
END:VCALENDAR