BEGIN:VCALENDAR
VERSION:2.0
PRODID:-//Falkor//Falkor Events//EN
CALSCALE:GREGORIAN
METHOD:PUBLISH
BEGIN:VEVENT
DTSTART:20260808T021000Z
DTEND:20260808T051000Z
SUMMARY:San Diego Padres vs Los Angeles Angels at Petco Park
DESCRIPTION:The Los Angeles Angels visit Petco Park on August 7 for an interleague Freeway Series variation — the second Southern California MLB rivalry that matters in San Diego\, even if it carries slightly different stakes than the Dodgers series. Angels fans travel south in numbers\, and the right-field area of Petco Park during an Angels visit takes on an Orange County red that the home crowd is obligated to answer. The Angels bring a lineup that can produce runs at any moment\, and interleague games at Petco against SoCal rivals draw the cross-market audience of fans who grew up choosing between teams or who hold ambiguous loyalties in a region with too many options. August at Petco Park in the heat of the pennant race is the ballpark at its best version of itself. The Angels provide a worthy opponent and a visible opposition presence. Show up and remind them whose park this is.
LOCATION:100 Park Blvd\, San Diego\, CA 92101
URL:https://www.falkorevents.com/eventcal/event/4865/details/
UID:event-4865@falkorevents.com
END:VEVENT
END:VCALENDAR