BEGIN:VCALENDAR
VERSION:2.0
PRODID:-//Falkor//Falkor Events//EN
CALSCALE:GREGORIAN
METHOD:PUBLISH
BEGIN:VEVENT
DTSTART:20260815T021000Z
DTEND:20260815T051000Z
SUMMARY:San Diego Padres vs San Francisco Giants at Petco Park — August
DESCRIPTION:The San Francisco Giants visit Petco Park on August 14 in the first August installment of the oldest active rivalry in the National League West. Padres vs Giants is a series conducted with the accumulated weight of decades of division combat — two California clubs competing for the same playoff spots\, playing four to six times per season in conditions that make every series feel like a referendum on which organization has built the better team. The Giants travel with one of baseball's largest and most consistent away followings\, and their presence transforms the Petco Park atmosphere into something closer to a neutral-site event than a typical home game. The home crowd has been preparing for this answer all season. August at Petco Park\, with the pennant race fully alive and the standings a daily point of reference\, is when baseball in San Diego reaches its full urgency.
LOCATION:100 Park Blvd\, San Diego\, CA 92101
URL:https://www.falkorevents.com/eventcal/event/4866/details/
UID:event-4866@falkorevents.com
END:VEVENT
END:VCALENDAR