BEGIN:VCALENDAR
VERSION:2.0
PRODID:-//Falkor//Falkor Events//EN
CALSCALE:GREGORIAN
METHOD:PUBLISH
BEGIN:VEVENT
DTSTART:20260822T021000Z
DTEND:20260822T051000Z
SUMMARY:San Diego Padres vs Milwaukee Brewers at Petco Park
DESCRIPTION:The Milwaukee Brewers visit Petco Park on August 21 in a mid-August series against a National League club that competes consistently above its market size. The Brewers are among baseball's most respected organizations — a franchise that has turned player development\, defensive efficiency\, and bullpen depth into a template for sustained competitiveness that larger-market clubs have studied. At Petco Park in August\, with the NL Wild Card race in full contention\, a Brewers series carries implications that extend beyond division standings. The Padres home crowd in the second half of August is fully aware of the standings\, fully aware of what each series means\, and fully present. Petco Park on an August Friday against a quality opponent from the National League Central is the kind of mid-summer game that regular baseball watchers identify as the real test of a season's ambitions. The Brewers are exactly that test.
LOCATION:100 Park Blvd\, San Diego\, CA 92101
URL:https://www.falkorevents.com/eventcal/event/4867/details/
UID:event-4867@falkorevents.com
END:VEVENT
END:VCALENDAR