BEGIN:VCALENDAR
VERSION:2.0
PRODID:-//Falkor//Falkor Events//EN
CALSCALE:GREGORIAN
METHOD:PUBLISH
BEGIN:VEVENT
DTSTART:20260829T021000Z
DTEND:20260829T051000Z
SUMMARY:San Diego Padres vs San Francisco Giants at Petco Park — August 28
DESCRIPTION:The Giants return to Petco Park on August 28 for the second late-season California rivalry series\, and by the last Friday of August the NL West standings have resolved themselves into something close to final. A Padres-Giants series in the last days of August — with both clubs in playoff position or fighting to get there — creates the specific urgency of rivals who understand each other completely and are running out of regular-season time to make their case. Petco Park in late August carries a particular weight: the summer concluding\, the college season about to begin\, and the baseball season entering the phase that measures everything before it. The Giants will bring their contingent from the Bay Area. The Padres will bring the city. And the three games at the corner of Park and 12th will provide a clearer answer than any standings printout about what the rest of the year will look like.
LOCATION:100 Park Blvd\, San Diego\, CA 92101
URL:https://www.falkorevents.com/eventcal/event/4868/details/
UID:event-4868@falkorevents.com
END:VEVENT
END:VCALENDAR