BEGIN:VCALENDAR
VERSION:2.0
PRODID:-//Falkor//Falkor Events//EN
CALSCALE:GREGORIAN
METHOD:PUBLISH
BEGIN:VEVENT
DTSTART:20260903T021000Z
DTEND:20260903T051000Z
SUMMARY:San Diego Padres vs St. Louis Cardinals at Petco Park — September
DESCRIPTION:The St. Louis Cardinals return to Petco Park on September 2 for a September series — the kind of late-season visit that takes on a completely different character from the May encounter. The Cardinals in September are either in or out of the postseason race\, and in either case they play with the motivation of a franchise that takes its history seriously. For the Padres at Petco in early September\, these games represent the acceleration toward the final month — every win more valuable\, every loss more costly\, the margin for error precisely calculated. The Padres faithful are at their most attentive in September: they know the standings\, they know the remaining schedule\, and they arrive at Petco for Cardinals games in September with the understanding that the field is getting smaller and the remaining home matches matter enormously.
LOCATION:100 Park Blvd\, San Diego\, CA 92101
URL:https://www.falkorevents.com/eventcal/event/4869/details/
UID:event-4869@falkorevents.com
END:VEVENT
END:VCALENDAR