BEGIN:VCALENDAR
VERSION:2.0
PRODID:-//Falkor//Falkor Events//EN
CALSCALE:GREGORIAN
METHOD:PUBLISH
BEGIN:VEVENT
DTSTART:20260909T021000Z
DTEND:20260909T051000Z
SUMMARY:San Diego Padres vs Arizona Diamondbacks at Petco Park — September
DESCRIPTION:The Arizona Diamondbacks visit Petco Park on September 8 for a September division series that could determine the NL West champion outright. Padres vs Diamondbacks in the division race — both clubs competing for the same postseason real estate — reaches its highest stakes in September when the margin between first and second place is measured in games and the home field of any future playoff series hangs in the balance. Petco Park in September is at maximum attention: the crowd checking the scoreboard in other parks between half-innings\, the stadium full on a Tuesday night because September baseball at Petco is different from any other time of year. These are the games you will remember regardless of the outcome. Two NL West clubs\, two months left\, one division title to be decided on the field.
LOCATION:100 Park Blvd\, San Diego\, CA 92101
URL:https://www.falkorevents.com/eventcal/event/4870/details/
UID:event-4870@falkorevents.com
END:VEVENT
END:VCALENDAR