BEGIN:VCALENDAR
VERSION:2.0
PRODID:-//Falkor//Falkor Events//EN
CALSCALE:GREGORIAN
METHOD:PUBLISH
BEGIN:VEVENT
DTSTART:20260919T021000Z
DTEND:20260919T051000Z
SUMMARY:San Diego Padres vs Miami Marlins at Petco Park — September
DESCRIPTION:The Miami Marlins visit Petco Park on September 18 as the regular season enters its final two weeks. September baseball at Petco has a character that no other month can replicate — the pennant race either resolved or at its most acute\, the crowd carrying the accumulated attention of six months of baseball\, and every game a referendum on what the season has been worth. The Marlins in September are a younger club building toward something longer-term\, but at Petco Park they will encounter a home team and a home crowd that are playing with maximum urgency. Petco Park in the last full weekend of September is where the regular season finds its conclusion. For a Padres team in contention\, September 18 is not a game to be managed — it is a game to be won.
LOCATION:100 Park Blvd\, San Diego\, CA 92101
URL:https://www.falkorevents.com/eventcal/event/4871/details/
UID:event-4871@falkorevents.com
END:VEVENT
END:VCALENDAR