BEGIN:VCALENDAR
VERSION:2.0
PRODID:-//Falkor//Falkor Events//EN
CALSCALE:GREGORIAN
METHOD:PUBLISH
BEGIN:VEVENT
DTSTART:20260914T201000Z
DTEND:20260914T231000Z
SUMMARY:San Diego Padres vs Colorado Rockies at Petco Park
DESCRIPTION:The Colorado Rockies visit Petco Park on September 14 in a late-season series between division rivals separated by stages of their respective rebuilds. Colorado is building. San Diego is competing. But NL West matchups in September carry a weight that transcends records — these four or six games per year between division rivals accumulate into a body of competitive history that defines how both franchises regard each other. Petco Park on a mid-September Sunday draws the season-ticket holder and the fan who made it to four games this year and chose this one for the early start and the beautiful afternoon light on the bay. Against Colorado in September\, the Padres are playing for the remaining NL West standings\, for confidence entering October\, and for the home field that matters when the calendar flips. Petco Park is at its most beautiful on Sunday afternoons in September.
LOCATION:100 Park Blvd\, San Diego\, CA 92101
URL:https://www.falkorevents.com/eventcal/event/4872/details/
UID:event-4872@falkorevents.com
END:VEVENT
END:VCALENDAR