BEGIN:VCALENDAR
VERSION:2.0
PRODID:-//Falkor//Falkor Events//EN
CALSCALE:GREGORIAN
METHOD:PUBLISH
BEGIN:VEVENT
DTSTART:20260923T021000Z
DTEND:20260923T051000Z
SUMMARY:San Diego Padres vs LA Dodgers at Petco Park — September Rivalry
DESCRIPTION:The Dodgers return to Petco Park on September 22 for the final regular-season rivalry series — and by the last Tuesday of September\, this is not background baseball. Padres vs Dodgers in the third week of September is the series that can decide the NL West title or lock in Wild Card positions\, and every seat at Petco Park is filled with fans who have been waiting for this specific match-up since June. The Dodger blue in the away section is extensive and vocal. The Padres faithful are louder. The scoreboard in other parks is checked between every half-inning. This is September baseball at Petco Park at its most consequential — the rivalry that San Diego has been conducting with Los Angeles for thirty years arriving at the moment when it matters most. See you at the park. Buy your ticket early.
LOCATION:100 Park Blvd\, San Diego\, CA 92101
URL:https://www.falkorevents.com/eventcal/event/4873/details/
UID:event-4873@falkorevents.com
END:VEVENT
END:VCALENDAR