BEGIN:VCALENDAR
VERSION:2.0
PRODID:-//Falkor//Falkor Events//EN
CALSCALE:GREGORIAN
METHOD:PUBLISH
BEGIN:VEVENT
DTSTART:20260510T020000Z
DTEND:20260510T050000Z
SUMMARY:UFC 328: Chimaev vs Strickland at Prudential Center
DESCRIPTION:UFC 328 lands on May 9 at Prudential Center in Newark\, New Jersey — and the main event between Khamzat Chimaev and Sean Strickland is the kind of fight that makes the middleweight division look genuinely dangerous for everyone. Chimaev arrives as one of the most physically dominant fighters to enter MMA in a generation: unbeaten\, relentless\, and capable of both wrestling and striking at championship level. Strickland won the middleweight belt in a performance no one saw coming and defended it with a personality that makes him one of the sport's most compelling characters regardless of whether you like him. Two fighters with nothing to lose\, neither willing to play it safe\, in a 185-pound main event that the serious MMA community has been circling on the calendar for months. If you can't be in Newark on May 9\, the PPV is the next best thing — but the best option is to be inside Prudential Center for live UFC at its most volatile.
LOCATION:25 Lafayette St\, Newark\, NJ 07102
URL:https://www.falkorevents.com/eventcal/event/4874/details/
UID:event-4874@falkorevents.com
END:VEVENT
END:VCALENDAR