BEGIN:VCALENDAR
VERSION:2.0
PRODID:-//Falkor//Falkor Events//EN
CALSCALE:GREGORIAN
METHOD:PUBLISH
BEGIN:VEVENT
DTSTART:20260615T020000Z
DTEND:20260615T050000Z
SUMMARY:UFC 330: Topuria vs Gaethje at Capital One Arena
DESCRIPTION:June 14 at Capital One Arena in Washington DC brings UFC 330 — and the main event features featherweight champion Ilia Topuria defending against Justin Gaethje in one of the most physically imposing title fights the 145-pound division has seen. Topuria arrived from Spain as an undefeated prospect and dispatched the division's most established champions with a precision that left the MMA world searching for adjectives. Gaethje is the most brutally efficient attacker in the sport — his fights generate violence with the consistency of a metronome and his chin is the stuff of urban legend. This is a title fight between a technically brilliant champion and the most dangerous challenger the division could assemble. UFC 330 at Capital One Arena in June is the kind of card that sells itself. The main event alone justifies everything.
LOCATION:601 F St NW\, Washington\, DC 20004
URL:https://www.falkorevents.com/eventcal/event/4875/details/
UID:event-4875@falkorevents.com
END:VEVENT
END:VCALENDAR