BEGIN:VCALENDAR
VERSION:2.0
PRODID:-//Falkor//Falkor Events//EN
CALSCALE:GREGORIAN
METHOD:PUBLISH
BEGIN:VEVENT
DTSTART:20260718T210000Z
DTEND:20260719T020000Z
SUMMARY:Del Mar Horse Racing — Opening Weekend Saturday
DESCRIPTION:Opening Weekend Saturday at Del Mar on July 18 carries a different energy from Opening Day — the crowds have sorted themselves from the spectacle-seekers into the more serious racing audience\, and the Saturday card tends to be sharper. Del Mar's summer meet runs Wednesdays through Sundays from mid-July through Labor Day\, and the Saturday cards consistently draw the meet's best fields. The Thoroughbred Club has attracted the West Coast's top horses since 1937\, and a Saturday afternoon in mid-July under the San Diego sun with Grade-quality horses going five and a half furlongs on the turf course is as good as racing gets anywhere in North America. First post at 2pm. The grandstand has seating or you can stand along the rail for free and watch the horses warm up before the crowd fully assembles.
LOCATION:2260 Jimmy Durante Blvd\, Del Mar\, CA 92014
URL:https://www.falkorevents.com/eventcal/event/4877/details/
UID:event-4877@falkorevents.com
END:VEVENT
END:VCALENDAR