BEGIN:VCALENDAR
VERSION:2.0
PRODID:-//Falkor//Falkor Events//EN
CALSCALE:GREGORIAN
METHOD:PUBLISH
BEGIN:VEVENT
DTSTART:20260725T210000Z
DTEND:20260726T020000Z
SUMMARY:Del Mar Racing — Bing Crosby Stakes Day (Grade I)
DESCRIPTION:The Bing Crosby Stakes on July 25 is one of the oldest Grade I sprint races on the West Coast — named for the man who co-founded Del Mar in 1937\, run at six furlongs on the main track\, and contested by the top sprint horses in North America. A Grade I race at Del Mar on a July Saturday draws both the serious racing public and the event crowd who wouldn't mark a racing day otherwise. The Bing Crosby carries $500\,000 in purse and the winner's connections have reliably used it as a launching point for the Breeders' Cup Sprint in October. See these horses two weeks before they become national news. Del Mar's grandstand on Bing Crosby day is at capacity by the second race — arrive early enough to claim your spot at the rail.
LOCATION:2260 Jimmy Durante Blvd\, Del Mar\, CA 92014
URL:https://www.falkorevents.com/eventcal/event/4878/details/
UID:event-4878@falkorevents.com
END:VEVENT
END:VCALENDAR