BEGIN:VCALENDAR
VERSION:2.0
PRODID:-//Falkor//Falkor Events//EN
CALSCALE:GREGORIAN
METHOD:PUBLISH
BEGIN:VEVENT
DTSTART:20260801T210000Z
DTEND:20260802T020000Z
SUMMARY:Del Mar Racing — Clement L. Hirsch Stakes Day (Grade I)
DESCRIPTION:August 1 brings the Clement L. Hirsch Stakes to Del Mar — a Grade I race for fillies and mares at one mile and one-sixteenth on the main track\, one of the most significant races on the West Coast calendar for the female division. The Hirsch is the counterpart to the Pacific Classic: where the Classic defines the older male division\, the Hirsch defines the top female performers for the second half of the year. August 1 is deep into the summer meet\, when the best horses have had a race or two on this track and the fan base knows who to watch. The card surrounding the Hirsch typically includes several stakes races on the turf\, making it one of the richest single programs of the summer. First post 2pm\, feature race in the late afternoon.
LOCATION:2260 Jimmy Durante Blvd\, Del Mar\, CA 92014
URL:https://www.falkorevents.com/eventcal/event/4879/details/
UID:event-4879@falkorevents.com
END:VEVENT
END:VCALENDAR