BEGIN:VCALENDAR
VERSION:2.0
PRODID:-//Falkor//Falkor Events//EN
CALSCALE:GREGORIAN
METHOD:PUBLISH
BEGIN:VEVENT
DTSTART:20260808T210000Z
DTEND:20260809T020000Z
SUMMARY:Del Mar Racing — Best Pal Stakes Weekend (Grade II)
DESCRIPTION:August 8 features the Best Pal Stakes at Del Mar — the premier two-year-old sprint on the West Coast\, a Grade II event at six and a half furlongs identifying which juveniles will compete for Breeders' Cup Juvenile honors in October. Watching two-year-olds at Del Mar in August is watching the next generation of champions in their first important tests. The horses haven't been to a track this competitive yet and the racing is unpredictable in the best possible way — early speed\, late ralliers\, and the occasional first-time winner at 20-to-1 that becomes the story of the weekend. The Best Pal card is one of the most family-friendly of the summer meet\, the afternoon races running at a pace that allows you to teach a first-timer how to read a racing form between stakes.
LOCATION:2260 Jimmy Durante Blvd\, Del Mar\, CA 92014
URL:https://www.falkorevents.com/eventcal/event/4880/details/
UID:event-4880@falkorevents.com
END:VEVENT
END:VCALENDAR