BEGIN:VCALENDAR
VERSION:2.0
PRODID:-//Falkor//Falkor Events//EN
CALSCALE:GREGORIAN
METHOD:PUBLISH
BEGIN:VEVENT
DTSTART:20260815T210000Z
DTEND:20260816T020000Z
SUMMARY:Del Mar Racing — Saturday Card (August 15)
DESCRIPTION:A mid-August Saturday at Del Mar is the summer meet in its most refined state — the meet three weeks old\, the horses knowing the track\, the crowd a more concentrated version of the racing public. August 15 at Del Mar sits between the Hirsch and the Pacific Classic\, providing a weekend card where the feature races on the turf course are as competitive as any on the calendar. The Pacific Ocean is visible from the upper grandstand and the temperature on a mid-August afternoon at Del Mar rarely exceeds 75 degrees — the marine layer providing natural air conditioning that makes this the most comfortable racetrack in North America. Bring a racing form\, find a seat in the lower grandstand\, and let the afternoon move at the pace it sets for itself.
LOCATION:2260 Jimmy Durante Blvd\, Del Mar\, CA 92014
URL:https://www.falkorevents.com/eventcal/event/4881/details/
UID:event-4881@falkorevents.com
END:VEVENT
END:VCALENDAR