BEGIN:VCALENDAR
VERSION:2.0
PRODID:-//Falkor//Falkor Events//EN
CALSCALE:GREGORIAN
METHOD:PUBLISH
BEGIN:VEVENT
DTSTART:20260822T210000Z
DTEND:20260823T020000Z
SUMMARY:Del Mar Racing — Pacific Classic Day (Grade I)
DESCRIPTION:The Pacific Classic on August 22 is the most important race run at Del Mar — a Grade I event at one and a quarter miles\, the longest and most prestigious race of the entire summer meet\, with a $1 million purse and a starting field that has historically included the best horses in training in North America. Pacific Classic Day is Del Mar's Kentucky Derby equivalent: the grandstand at capacity\, the infield filled\, the mutuel windows handling their largest volume of the year. Past winners include Zenyatta\, Shared Belief\, and Accelerate — horses whose names still appear in conversations about the West Coast's greatest performances. The Classic itself runs in the late afternoon\, preceded by a full card including the Grade I Torrey Pines Stakes for three-year-olds. For anyone with a serious or casual interest in Thoroughbred racing\, Pacific Classic Day is the annual appointment the summer calendar builds toward.
LOCATION:2260 Jimmy Durante Blvd\, Del Mar\, CA 92014
URL:https://www.falkorevents.com/eventcal/event/4882/details/
UID:event-4882@falkorevents.com
END:VEVENT
END:VCALENDAR