BEGIN:VCALENDAR
VERSION:2.0
PRODID:-//Falkor//Falkor Events//EN
CALSCALE:GREGORIAN
METHOD:PUBLISH
BEGIN:VEVENT
DTSTART:20260829T210000Z
DTEND:20260830T020000Z
SUMMARY:Del Mar Racing — Pat O'Brien Stakes Day (Grade II)
DESCRIPTION:The Pat O'Brien Stakes runs on August 29 at Del Mar — a Grade II sprint named for the actor who co-founded the track with Bing Crosby in 1937. The Pat O'Brien is the major sprint prep race of the Del Mar summer meet\, a Grade II event at seven furlongs that regularly attracts the sprint champions targeting the Breeders' Cup Sprint in October. August 29 is the final Saturday of the regular summer meet before the Labor Day stretch\, and the card reflects it — full fields\, competitive racing across multiple distances\, and a crowd that understands these last weekends have a finite quality. Del Mar in late August has a specific beauty: the summer meet entering its final chapter\, the horses at their meet-best conditioning\, the grandstand carrying the warmth of a season still running but beginning to close.
LOCATION:2260 Jimmy Durante Blvd\, Del Mar\, CA 92014
URL:https://www.falkorevents.com/eventcal/event/4883/details/
UID:event-4883@falkorevents.com
END:VEVENT
END:VCALENDAR