BEGIN:VCALENDAR
VERSION:2.0
PRODID:-//Falkor//Falkor Events//EN
CALSCALE:GREGORIAN
METHOD:PUBLISH
BEGIN:VEVENT
DTSTART:20260905T210000Z
DTEND:20260906T020000Z
SUMMARY:Del Mar Racing — Debutante Stakes and Futurity Weekend
DESCRIPTION:The Del Mar Debutante Stakes and Del Mar Futurity run in the first weekend of September — the two major juvenile stakes races of the summer meet\, crowning the best two-year-old filly and colt on the West Coast ahead of the fall championship season. September at Del Mar carries Labor Day weekend energy: the summer's largest crowds\, the meet approaching its conclusion\, and the juvenile races providing the forward-looking narrative that connects the summer to the Breeders' Cup in October. The Debutante and Futurity historically identify the championship-caliber two-year-olds — every winner in recent years has continued competing at the highest levels through the winter. For racing fans\, this is the weekend to mark: the juvenile championships at one of North America's most beautiful racetracks\, in perfect September weather\, before the summer is entirely over.
LOCATION:2260 Jimmy Durante Blvd\, Del Mar\, CA 92014
URL:https://www.falkorevents.com/eventcal/event/4884/details/
UID:event-4884@falkorevents.com
END:VEVENT
END:VCALENDAR