BEGIN:VCALENDAR
VERSION:2.0
PRODID:-//Falkor//Falkor Events//EN
CALSCALE:GREGORIAN
METHOD:PUBLISH
BEGIN:VEVENT
DTSTART:20260722T210000Z
DTEND:20260723T020000Z
SUMMARY:Del Mar Racing — Midweek Wednesday Card
DESCRIPTION:Del Mar runs Wednesdays through Sundays during the summer meet\, and a Wednesday afternoon at the track is one of the most underrated sports afternoons in Southern California. The crowd is smaller\, the line for the mutuel windows is shorter\, and the horses are the same ones that ran in front of 40\,000 on Saturday. A Wednesday card at Del Mar draws the professional racing public — horseplayers\, trainers\, the regulars who come every week — and creates an intimacy with the racing that weekend crowds don't allow. The rail along the stretch run has open space on Wednesdays. You can watch the horses in the paddock without fighting a crowd. First post at 2pm. The marine layer is usually gone by then. There is genuinely nothing else like this in Southern California sports.
LOCATION:2260 Jimmy Durante Blvd\, Del Mar\, CA 92014
URL:https://www.falkorevents.com/eventcal/event/4886/details/
UID:event-4886@falkorevents.com
END:VEVENT
END:VCALENDAR