BEGIN:VCALENDAR
VERSION:2.0
PRODID:-//Falkor//Falkor Events//EN
CALSCALE:GREGORIAN
METHOD:PUBLISH
BEGIN:VEVENT
DTSTART:20260719T210000Z
DTEND:20260720T020000Z
SUMMARY:Del Mar Racing — Sunday Family Day
DESCRIPTION:Sundays at Del Mar during the summer meet are built for the fan who is not already a racing regular — the format-friendly card\, the lower-key atmosphere compared to Saturday\, and the proximity to the Pacific Ocean make it one of the most accessible sports afternoons in San Diego County. A Sunday in August at Del Mar means arriving at 2pm\, learning to read a basic racing form with help from the grandstand regulars who are always willing to explain\, and watching eight or nine races before the sun moves west over the Pacific. Del Mar's Sunday crowds run younger than the weekday meet\, and the energy reflects it: casual conversations about the horses\, the occasional spectacular finish celebrated by the entire grandstand\, and the walk back to the parking lot a genuinely complete afternoon.
LOCATION:2260 Jimmy Durante Blvd\, Del Mar\, CA 92014
URL:https://www.falkorevents.com/eventcal/event/4887/details/
UID:event-4887@falkorevents.com
END:VEVENT
END:VCALENDAR