BEGIN:VCALENDAR
VERSION:2.0
PRODID:-//Falkor//Falkor Events//EN
CALSCALE:GREGORIAN
METHOD:PUBLISH
BEGIN:VEVENT
DTSTART:20260907T210000Z
DTEND:20260908T020000Z
SUMMARY:Del Mar Racing — Labor Day Weekend Racing
DESCRIPTION:Labor Day weekend marks the final days of the Del Mar summer meet\, and the track handles it with appropriate ceremony: larger-than-usual crowds\, competitive fields\, and the awareness that the summer racing season is arriving at its scheduled end. The Labor Day cards at Del Mar traditionally draw the season's largest single-day attendance — the holiday crowds\, the annual visitors who make Del Mar a summer tradition\, and the regulars who have been here every week since July now present for the farewell. Del Mar has been doing this every summer since 1937\, and the Labor Day weekend ritual has its own accumulated weight. Plan to arrive by the second race.
LOCATION:2260 Jimmy Durante Blvd\, Del Mar\, CA 92014
URL:https://www.falkorevents.com/eventcal/event/4889/details/
UID:event-4889@falkorevents.com
END:VEVENT
END:VCALENDAR