BEGIN:VCALENDAR
VERSION:2.0
PRODID:-//Falkor//Falkor Events//EN
CALSCALE:GREGORIAN
METHOD:PUBLISH
BEGIN:VEVENT
DTSTART:20260723T210000Z
DTEND:20260724T020000Z
SUMMARY:Del Mar Racing — Thursday Sunset Card
DESCRIPTION:A Thursday evening at Del Mar during the summer meet is racing conducted as the San Diego summer intended it — the track running a card that starts at 4pm\, the grandstand filling after the workday\, and the final races run with the Pacific sky going pink and orange behind the western stands. Del Mar's Thursday programs during the summer meet are among the most pleasant in American racing: the crowd dressed comfortably rather than formally\, the races competitive\, and the atmosphere entirely relaxed in a way that Saturday's crowds cannot be. The sunset over the Del Mar stretch run is a genuine spectacle — if you have not been to a Del Mar evening card\, Thursday is the best entry point into what makes this track different from every other racetrack in the country.
LOCATION:2260 Jimmy Durante Blvd\, Del Mar\, CA 92014
URL:https://www.falkorevents.com/eventcal/event/4890/details/
UID:event-4890@falkorevents.com
END:VEVENT
END:VCALENDAR