BEGIN:VCALENDAR
VERSION:2.0
PRODID:-//Falkor//Falkor Events//EN
CALSCALE:GREGORIAN
METHOD:PUBLISH
BEGIN:VEVENT
DTSTART:20260504T020000Z
DTEND:20260504T040000Z
SUMMARY:San Diego Wave FC Home Match — May 3 at Snapdragon Stadium
DESCRIPTION:May 3 brings San Diego Wave FC back to Snapdragon Stadium for an early-season NWSL home match. The Wave arrived in 2022 and immediately built something genuinely original: a San Diego club with international quality\, a fan base that approaches its support with real intensity\, and a Snapdragon Stadium home that provides the best visual backdrop in the NWSL. May in Mission Valley is perfect soccer weather — the morning fog gone by noon\, the late afternoon clear and warm\, the grass fast and true. The NWSL is the world's best women's professional league\, and San Diego Wave FC represent it with a roster that consistently attracts the most talented international players to the California coast. A May match at Snapdragon is the kind of afternoon that earns its reputation among the people who show up for it.
LOCATION:9449 Friars Rd\, San Diego\, CA 92108
URL:https://www.falkorevents.com/eventcal/event/4891/details/
UID:event-4891@falkorevents.com
END:VEVENT
END:VCALENDAR