BEGIN:VCALENDAR
VERSION:2.0
PRODID:-//Falkor//Falkor Events//EN
CALSCALE:GREGORIAN
METHOD:PUBLISH
BEGIN:VEVENT
DTSTART:20260525T020000Z
DTEND:20260525T040000Z
SUMMARY:San Diego Wave FC Home Match — May 24 at Snapdragon Stadium
DESCRIPTION:San Diego Wave FC return to Snapdragon Stadium on May 24 for a late-May Sunday afternoon NWSL match — the kind of day in San Diego that makes everyone who lives here remember why they do. May Sundays at Snapdragon carry family-day energy: the supporter section in full voice\, a younger crowd visible throughout the lower deck\, and the game played at a pace that rewards the attention of anyone willing to watch it closely. The Wave have built a genuine sporting identity in San Diego — the uniform\, the crest\, the culture around the club that extends beyond the results. A Sunday afternoon in Mission Valley in late May against NWSL competition is the kind of low-stakes high-quality sports afternoon that gets described to people who weren't there in the same terms as a concert or a sunset.
LOCATION:9449 Friars Rd\, San Diego\, CA 92108
URL:https://www.falkorevents.com/eventcal/event/4893/details/
UID:event-4893@falkorevents.com
END:VEVENT
END:VCALENDAR