BEGIN:VCALENDAR
VERSION:2.0
PRODID:-//Falkor//Falkor Events//EN
CALSCALE:GREGORIAN
METHOD:PUBLISH
BEGIN:VEVENT
DTSTART:20260712T020000Z
DTEND:20260712T040000Z
SUMMARY:San Diego Wave FC Home Match — July 11 at Snapdragon Stadium
DESCRIPTION:San Diego Wave FC host their July 11 NWSL home match at Snapdragon Stadium — a mid-July Saturday when the NWSL season is deep enough that the playoff picture is beginning to form and every home result carries additional meaning. The Wave are a genuine NWSL championship contender in any season they assemble their full roster at Snapdragon\, and July is when the club identifies who it is going to be for the run-in. The home crowd in July is the most sophisticated it gets during the year: regulars who have attended every home match\, traveling supporters from the opponent's market\, and the San Diego sports audience who discovered professional women's football and decided to keep coming. Snapdragon in July under lights on a Saturday is one of the better evenings professional soccer offers anywhere in California.
LOCATION:9449 Friars Rd\, San Diego\, CA 92108
URL:https://www.falkorevents.com/eventcal/event/4895/details/
UID:event-4895@falkorevents.com
END:VEVENT
END:VCALENDAR