BEGIN:VCALENDAR
VERSION:2.0
PRODID:-//Falkor//Falkor Events//EN
CALSCALE:GREGORIAN
METHOD:PUBLISH
BEGIN:VEVENT
DTSTART:20260727T020000Z
DTEND:20260727T040000Z
SUMMARY:San Diego Wave FC Home Match — July 26 at Snapdragon Stadium
DESCRIPTION:San Diego Wave FC return to Snapdragon Stadium on July 26 — a late July Sunday afternoon match as the NWSL summer stretch reaches its most competitive phase. By late July the playoff positions are taking shape and the Wave's home record at Snapdragon has been one of the primary reasons they remain a genuine championship contender. The NWSL's technical level in late July is at its annual peak: the season's best lineups\, the individual players at top form\, the teams building chemistry since March now functioning as complete units. Snapdragon Stadium on a Sunday in late July in Mission Valley is the Wave at their home best — the lower deck full\, the supporter section active from the first whistle\, and the fast grass pitch showing off exactly what this level of professional women's football can produce.
LOCATION:9449 Friars Rd\, San Diego\, CA 92108
URL:https://www.falkorevents.com/eventcal/event/4896/details/
UID:event-4896@falkorevents.com
END:VEVENT
END:VCALENDAR