BEGIN:VCALENDAR
VERSION:2.0
PRODID:-//Falkor//Falkor Events//EN
CALSCALE:GREGORIAN
METHOD:PUBLISH
BEGIN:VEVENT
DTSTART:20260815T020000Z
DTEND:20260815T040000Z
SUMMARY:San Diego Wave FC Home Match — August 14 at Snapdragon Stadium
DESCRIPTION:San Diego Wave FC host their August 14 NWSL home match at Snapdragon Stadium as the summer meet enters the stage where playoff mathematics become unavoidable. Every home victory for the Wave tightens their grip on a playoff position and deepens the conversation about this club's title prospects. August at Snapdragon is the heart of the NWSL summer — the league's best players fully settled into their clubs\, the matches contested at the highest level of the season\, and the Wave's home atmosphere operating at capacity noise and attention. The San Diego football public has developed a genuine understanding of what it is watching at Wave matches: the pressing triggers\, the combination play through the thirds\, the goalkeeping performances that have defined the club's best years. August 14 is a Friday evening in Mission Valley. It is a very good way to start a weekend.
LOCATION:9449 Friars Rd\, San Diego\, CA 92108
URL:https://www.falkorevents.com/eventcal/event/4897/details/
UID:event-4897@falkorevents.com
END:VEVENT
END:VCALENDAR