BEGIN:VCALENDAR
VERSION:2.0
PRODID:-//Falkor//Falkor Events//EN
CALSCALE:GREGORIAN
METHOD:PUBLISH
BEGIN:VEVENT
DTSTART:20260822T020000Z
DTEND:20260822T040000Z
SUMMARY:San Diego Wave FC Home Match — August 21 at Snapdragon Stadium
DESCRIPTION:San Diego Wave FC host their August 21 NWSL home match at Snapdragon Stadium — a late-August Friday as the regular season approaches its final weeks. By this point in the calendar the NWSL playoff picture is nearly resolved\, and the Wave's home record at Snapdragon is a direct influence on where they enter the postseason bracket. The club's technical quality in August is at its seasonal peak: the roster at full health\, the pressing system operating with the fluency that comes from months of repetition\, and the individual stars at the peak of their competitive form. Snapdragon Stadium in August on a Friday evening is Mission Valley at its best summer version — warm\, clear\, the stadium filled with people who have been following this club all season and arrived knowing exactly what is at stake.
LOCATION:9449 Friars Rd\, San Diego\, CA 92108
URL:https://www.falkorevents.com/eventcal/event/4898/details/
UID:event-4898@falkorevents.com
END:VEVENT
END:VCALENDAR