BEGIN:VCALENDAR
VERSION:2.0
PRODID:-//Falkor//Falkor Events//EN
CALSCALE:GREGORIAN
METHOD:PUBLISH
BEGIN:VEVENT
DTSTART:20260829T020000Z
DTEND:20260829T040000Z
SUMMARY:San Diego Wave FC Home Match — August 28 at Snapdragon Stadium
DESCRIPTION:The last August home match of the San Diego Wave FC NWSL season falls on August 28 — a Friday evening at Snapdragon Stadium as the regular season enters its final month. Late August carries the specific quality of a season approaching its conclusion: the home crowd more focused\, the performances sharper for the urgency\, and the awareness that the remaining home matches are finite and each one matters for seeding. The Wave faithful show up for these late-August matches with the accumulated knowledge of a full season — they understand the tactical shape\, know the players' tendencies\, and watch the game at a level of attention that newer fans are still developing. Snapdragon in late August\, with the playoff picture clarifying and everything on the line\, is San Diego women's football at its most consequential.
LOCATION:9449 Friars Rd\, San Diego\, CA 92108
URL:https://www.falkorevents.com/eventcal/event/4899/details/
UID:event-4899@falkorevents.com
END:VEVENT
END:VCALENDAR