BEGIN:VCALENDAR
VERSION:2.0
PRODID:-//Falkor//Falkor Events//EN
CALSCALE:GREGORIAN
METHOD:PUBLISH
BEGIN:VEVENT
DTSTART:20260913T020000Z
DTEND:20260913T040000Z
SUMMARY:San Diego Wave FC Home Match — September 12 at Snapdragon Stadium
DESCRIPTION:San Diego Wave FC host a September 12 NWSL match at Snapdragon Stadium as the playoff race enters its final weeks. By the second Saturday in September\, the Wave know exactly what they need — games in hand\, goal differential\, the specific results that secure their preferred playoff seeding. Snapdragon in September is the stadium at its highest competitive attention: the crowd smaller than July's peak but sharper\, the football more urgently watched\, every challenge and chance assessed in the context of standings mathematics that everyone present understands. The NWSL's September stretch is where genuine contenders separate from teams that have been competitive without being ready for the pressure. San Diego Wave FC\, with Snapdragon behind them in September\, have proven they know how to handle it.
LOCATION:9449 Friars Rd\, San Diego\, CA 92108
URL:https://www.falkorevents.com/eventcal/event/4900/details/
UID:event-4900@falkorevents.com
END:VEVENT
END:VCALENDAR