BEGIN:VCALENDAR
VERSION:2.0
PRODID:-//Falkor//Falkor Events//EN
CALSCALE:GREGORIAN
METHOD:PUBLISH
BEGIN:VEVENT
DTSTART:20260919T020000Z
DTEND:20260919T040000Z
SUMMARY:San Diego Wave FC Home Match — September 18 at Snapdragon Stadium
DESCRIPTION:The San Diego Wave FC's September 18 NWSL home match at Snapdragon Stadium arrives in the final full regular-season week — a Friday evening in Mission Valley with playoff positioning fully live and the remaining home matches carrying their maximum weight. This is the last or second-to-last home match of the regular season\, and Snapdragon on a September Friday carries the particular energy of a crowd that has been here all year and understands what it is watching with complete context. The Wave's NWSL home record has been the foundation of their annual playoff runs\, and September 18 is the crowd's opportunity to contribute something tangible to the outcome. Play at the highest NWSL level in a stadium that has proven it can hold and amplify exactly this kind of pressure.
LOCATION:9449 Friars Rd\, San Diego\, CA 92108
URL:https://www.falkorevents.com/eventcal/event/4901/details/
UID:event-4901@falkorevents.com
END:VEVENT
END:VCALENDAR