BEGIN:VCALENDAR
VERSION:2.0
PRODID:-//Falkor//Falkor Events//EN
CALSCALE:GREGORIAN
METHOD:PUBLISH
BEGIN:VEVENT
DTSTART:20261026T020000Z
DTEND:20261026T040000Z
SUMMARY:San Diego Wave FC Home Match — October 25 at Snapdragon Stadium
DESCRIPTION:October 25 brings San Diego Wave FC back to Snapdragon Stadium for a late-season NWSL match — potentially the final home game of the regular season. The Wave faithful on a late October Sunday at Snapdragon arrive with the accumulated investment of a full season behind them: the early-May matches\, the summer stretch\, the September push\, and now this — the last opportunity to see the club on home soil before the postseason begins. The last home match of the regular season at Snapdragon is always the crowd's chance to send the team into the bracket with the knowledge that 35\,000 people in Mission Valley believe in what they are building.
LOCATION:9449 Friars Rd\, San Diego\, CA 92108
URL:https://www.falkorevents.com/eventcal/event/4902/details/
UID:event-4902@falkorevents.com
END:VEVENT
END:VCALENDAR