BEGIN:VCALENDAR
VERSION:2.0
PRODID:-//Falkor//Falkor Events//EN
CALSCALE:GREGORIAN
METHOD:PUBLISH
BEGIN:VEVENT
DTSTART:20260427T020000Z
DTEND:20260427T040000Z
SUMMARY:Angel City FC Home Match — April 26 at BMO Stadium
DESCRIPTION:April 26 opens Angel City FC's home calendar at BMO Stadium in South Los Angeles — one of the most eagerly anticipated events in Los Angeles women's sports. Angel City FC launched in 2022 with the most media-visible founding group in women's professional sports history and immediately matched the hype with a product on the field and an atmosphere in the stands that established BMO Stadium as the NWSL's highest-attendance venue. The April home opener draws the club's most invested supporter base alongside the casual fans who make one or two trips per year and choose the first home match for the atmosphere. BMO Stadium under lights in April\, with the downtown LA skyline visible beyond the east stand\, is one of the better live sports settings in the entire city.
LOCATION:3939 S Figueroa St\, Los Angeles\, CA 90037
URL:https://www.falkorevents.com/eventcal/event/4903/details/
UID:event-4903@falkorevents.com
END:VEVENT
END:VCALENDAR