BEGIN:VCALENDAR
VERSION:2.0
PRODID:-//Falkor//Falkor Events//EN
CALSCALE:GREGORIAN
METHOD:PUBLISH
BEGIN:VEVENT
DTSTART:20260503T020000Z
DTEND:20260503T040000Z
SUMMARY:Angel City FC Home Match — May 2 at BMO Stadium
DESCRIPTION:Angel City FC host their May 2 NWSL home match at BMO Stadium — the first Saturday of May in South Los Angeles\, the club's season at full stride and the opponent tested against one of the more technically demanding pressing systems in the league. Angel City's playing style rewards close watching: the transitions\, the off-ball positioning\, the goalkeeper's distribution as the first pass of a build-up move. BMO Stadium on a Saturday in early May is accessible from the entire city and provides one of the more complete live sports afternoons available in LA: arrive 90 minutes early and the scene outside the stadium is already active. Women's professional football at this level is worth watching for the quality. The atmosphere at BMO is what keeps people coming back.
LOCATION:3939 S Figueroa St\, Los Angeles\, CA 90037
URL:https://www.falkorevents.com/eventcal/event/4904/details/
UID:event-4904@falkorevents.com
END:VEVENT
END:VCALENDAR